BEGIN:VCALENDAR
VERSION:2.0
PRODID:-//Stichting Afghaanse Media &amp; Educatie Nederland (SAMEN). - ECPv6.15.17.1//NONSGML v1.0//EN
CALSCALE:GREGORIAN
METHOD:PUBLISH
X-ORIGINAL-URL:https://paiwastoon.org
X-WR-CALDESC:Evenementen voor Stichting Afghaanse Media &amp; Educatie Nederland (SAMEN).
REFRESH-INTERVAL;VALUE=DURATION:PT1H
X-Robots-Tag:noindex
X-PUBLISHED-TTL:PT1H
BEGIN:VTIMEZONE
TZID:UTC
BEGIN:STANDARD
TZOFFSETFROM:+0000
TZOFFSETTO:+0000
TZNAME:UTC
DTSTART:20250101T000000
END:STANDARD
END:VTIMEZONE
BEGIN:VEVENT
DTSTART;VALUE=DATE:20260819
DTEND;VALUE=DATE:20300820
DTSTAMP:20260424T124645
CREATED:20260315T153140Z
LAST-MODIFIED:20260315T154812Z
UID:1564-1787097600-1913414399@paiwastoon.org
SUMMARY:Afghaanse Onafhankelijkheidsdag - 19 Augustus
DESCRIPTION:Paiwastoon viert jaarlijks de Afghaanse Onafhankelijkheidsdag op 19 augustus. Op deze bijzondere dag staan wij stil bij de geschiedenis\, vrijheid en nationale trots van Afghanistan. \nTijdens deze bijeenkomst besteden we aandacht aan verschillende nationale thema’s\, met ruimte voor cultuur\, muziek en ontmoeting. Het is een moment om samen te komen als gemeenschap en de waarden van saamhorigheid\, verbondenheid en eenheid te versterken. \n📅 Datum: 19 augustus\n📍 Locatie: nader te bepalen \nIedereen is van harte welkom om deze betekenisvolle dag samen te vieren. \n👉 Meer informatie over het programma volgt binnenkort.
URL:https://paiwastoon.org/event/afghaanse-onafhankelijkheidsdag/
LOCATION:Arzo Partycentrum Beverwijk
ATTACH;FMTTYPE=image/jpeg:https://paiwastoon.org/wp-content/uploads/2026/01/independence-day-of-afghanistan-flag-of-vector-18957919-1.jpg
END:VEVENT
END:VCALENDAR